BEGIN:VCALENDAR
PRODID:-//spiritec//spiritec media library//EN
VERSION:2.0
METHOD:PUBLISH
BEGIN:VEVENT
UID:ical-2026-05-16-4327
DTSTART:20260516T170000Z
DTSTAMP:20260421T193034Z
LOCATION:HAU Hebbel am Ufer (HAU1)
SUMMARY:Drei Mal links ist rechts
DESCRIPTION:HAU Hebbel am Ufer (HAU1)\nStresemannstraße 29, \n10963 Berlin
CREATED:20260421T193034Z
DTEND:20260516T215900Z
END:VEVENT
END:VCALENDAR
